Package: GOSemSim Version: 2.33.0 Command: rm -rf GOSemSim.buildbin-libdir && mkdir GOSemSim.buildbin-libdir && /Users/biocbuild/BBS/utils/build-universal.sh GOSemSim_2.33.0.tar.gz /Library/Frameworks/R.framework/Resources/bin/R GOSemSim.buildbin-libdir StartedAt: 2025-02-10 00:56:21 -0500 (Mon, 10 Feb 2025) EndedAt: 2025-02-10 00:56:56 -0500 (Mon, 10 Feb 2025) EllapsedTime: 34.8 seconds RetCode: 0 Status: OK PackageFile: GOSemSim_2.33.0.tgz PackageFileSize: 1.147 MiB