Package: GOSemSim Version: 2.33.0 Command: /home/biocbuild/bbs-3.21-bioc/R/bin/R CMD check --install=check:GOSemSim.install-out.txt --library=/home/biocbuild/bbs-3.21-bioc/R/site-library --timings GOSemSim_2.33.0.tar.gz StartedAt: 2025-02-09 22:51:29 -0500 (Sun, 09 Feb 2025) EndedAt: 2025-02-09 22:53:49 -0500 (Sun, 09 Feb 2025) EllapsedTime: 140.2 seconds RetCode: 0 Status: OK CheckDir: GOSemSim.Rcheck Warnings: 0