Package: GOSemSim Version: 2.33.0 Command: /home/biocbuild/bbs-3.21-bioc/R/bin/R CMD INSTALL GOSemSim StartedAt: 2025-02-09 15:37:43 -0500 (Sun, 09 Feb 2025) EndedAt: 2025-02-09 15:38:06 -0500 (Sun, 09 Feb 2025) EllapsedTime: 23.6 seconds RetCode: 0 Status: OK