Package: GOSemSim Version: 2.33.0 Command: chmod a+r GOSemSim -R && E:\biocbuild\bbs-3.21-bioc\R\bin\R.exe CMD build --keep-empty-dirs --no-resave-data GOSemSim StartedAt: 2025-02-09 19:03:00 -0500 (Sun, 09 Feb 2025) EndedAt: 2025-02-09 19:03:39 -0500 (Sun, 09 Feb 2025) EllapsedTime: 38.9 seconds RetCode: 0 Status: OK PackageFile: GOSemSim_2.33.0.tar.gz PackageFileSize: 594.7 KiB