Package: GOTHiC Version: 1.43.0 Command: /home/biocbuild/R/R/bin/R CMD check --install=check:GOTHiC.install-out.txt --library=/home/biocbuild/R/R/site-library --no-vignettes --timings GOTHiC_1.43.0.tar.gz StartedAt: 2025-01-28 11:15:08 -0000 (Tue, 28 Jan 2025) EndedAt: 2025-01-28 11:34:16 -0000 (Tue, 28 Jan 2025) EllapsedTime: 1147.1 seconds RetCode: 0 Status: OK CheckDir: GOTHiC.Rcheck Warnings: 0