Package: GOTHiC Version: 1.43.0 Command: /home/biocbuild/R/R/bin/R CMD INSTALL GOTHiC StartedAt: 2025-01-29 19:59:24 -0000 (Wed, 29 Jan 2025) EndedAt: 2025-01-29 20:00:16 -0000 (Wed, 29 Jan 2025) EllapsedTime: 52.4 seconds RetCode: 0 Status: OK