Package: GOTHiC Version: 1.43.0 Command: /Library/Frameworks/R.framework/Resources/bin/R CMD build --keep-empty-dirs --no-resave-data GOTHiC StartedAt: 2025-02-03 16:58:00 -0500 (Mon, 03 Feb 2025) EndedAt: 2025-02-03 16:58:45 -0500 (Mon, 03 Feb 2025) EllapsedTime: 44.5 seconds RetCode: 0 Status: OK PackageFile: GOTHiC_1.43.0.tar.gz PackageFileSize: 1.697 MiB