Package: GOTHiC Version: 1.43.0 Command: /Library/Frameworks/R.framework/Resources/bin/R CMD check --install=check:GOTHiC.install-out.txt --library=/Library/Frameworks/R.framework/Resources/library --no-vignettes --timings GOTHiC_1.43.0.tar.gz StartedAt: 2025-02-09 21:06:52 -0500 (Sun, 09 Feb 2025) EndedAt: 2025-02-09 21:13:13 -0500 (Sun, 09 Feb 2025) EllapsedTime: 381.1 seconds RetCode: 0 Status: OK CheckDir: GOTHiC.Rcheck Warnings: 0