Package: GOTHiC Version: 1.43.0 Command: /Library/Frameworks/R.framework/Resources/bin/R CMD INSTALL GOTHiC StartedAt: 2025-02-09 15:25:11 -0500 (Sun, 09 Feb 2025) EndedAt: 2025-02-09 15:26:04 -0500 (Sun, 09 Feb 2025) EllapsedTime: 53.3 seconds RetCode: 0 Status: OK