Package: GOTHiC Version: 1.43.0 Command: chmod a+r GOTHiC -R && E:\biocbuild\bbs-3.21-bioc\R\bin\R.exe CMD build --keep-empty-dirs --no-resave-data GOTHiC StartedAt: 2025-02-04 19:06:14 -0500 (Tue, 04 Feb 2025) EndedAt: 2025-02-04 19:07:06 -0500 (Tue, 04 Feb 2025) EllapsedTime: 51.4 seconds RetCode: 0 Status: OK PackageFile: GOTHiC_1.43.0.tar.gz PackageFileSize: 1.57 MiB