Package: GOTHiC Version: 1.43.0 Command: E:\biocbuild\bbs-3.21-bioc\R\bin\R.exe CMD check --no-multiarch --install=check:GOTHiC.install-out.txt --library=E:\biocbuild\bbs-3.21-bioc\R\library --no-vignettes --timings GOTHiC_1.43.0.tar.gz StartedAt: 2025-02-10 01:41:49 -0500 (Mon, 10 Feb 2025) EndedAt: 2025-02-10 01:48:36 -0500 (Mon, 10 Feb 2025) EllapsedTime: 406.4 seconds RetCode: 0 Status: OK CheckDir: GOTHiC.Rcheck Warnings: 0