Package: GOTHiC Version: 1.43.0 Command: E:\biocbuild\bbs-3.21-bioc\R\bin\R.exe CMD INSTALL GOTHiC StartedAt: 2025-02-09 16:53:33 -0500 (Sun, 09 Feb 2025) EndedAt: 2025-02-09 16:54:20 -0500 (Sun, 09 Feb 2025) EllapsedTime: 47.1 seconds RetCode: 0 Status: OK