Package: GOexpress Version: 1.41.0 Command: /Library/Frameworks/R.framework/Resources/bin/R CMD build --keep-empty-dirs --no-resave-data GOexpress StartedAt: 2025-02-09 16:30:19 -0500 (Sun, 09 Feb 2025) EndedAt: 2025-02-09 16:30:36 -0500 (Sun, 09 Feb 2025) EllapsedTime: 16.2 seconds RetCode: 0 Status: OK PackageFile: GOexpress_1.41.0.tar.gz PackageFileSize: 2.345 MiB