Package: GOexpress Version: 1.41.0 Command: /Library/Frameworks/R.framework/Resources/bin/R CMD INSTALL GOexpress StartedAt: 2025-02-09 15:13:18 -0500 (Sun, 09 Feb 2025) EndedAt: 2025-02-09 15:13:26 -0500 (Sun, 09 Feb 2025) EllapsedTime: 7.8 seconds RetCode: 0 Status: OK