Package: GOexpress Version: 1.41.0 Command: /home/biocbuild/R/R/bin/R CMD check --install=check:GOexpress.install-out.txt --library=/home/biocbuild/R/R/site-library --no-vignettes --timings GOexpress_1.41.0.tar.gz StartedAt: 2025-01-28 11:11:54 -0000 (Tue, 28 Jan 2025) EndedAt: 2025-01-28 11:14:29 -0000 (Tue, 28 Jan 2025) EllapsedTime: 155.1 seconds RetCode: 0 Status: WARNINGS CheckDir: GOexpress.Rcheck Warnings: 5