Package: GOexpress Version: 1.41.0 Command: /home/biocbuild/R/R/bin/R CMD INSTALL GOexpress StartedAt: 2025-01-29 20:01:24 -0000 (Wed, 29 Jan 2025) EndedAt: 2025-01-29 20:01:49 -0000 (Wed, 29 Jan 2025) EllapsedTime: 24.9 seconds RetCode: 0 Status: OK