Package: GOexpress Version: 1.41.0 Command: rm -rf GOexpress.buildbin-libdir && mkdir GOexpress.buildbin-libdir && /Users/biocbuild/BBS/utils/build-universal.sh GOexpress_1.41.0.tar.gz /Library/Frameworks/R.framework/Resources/bin/R GOexpress.buildbin-libdir StartedAt: 2025-02-10 00:56:19 -0500 (Mon, 10 Feb 2025) EndedAt: 2025-02-10 00:56:46 -0500 (Mon, 10 Feb 2025) EllapsedTime: 27.6 seconds RetCode: 0 Status: OK PackageFile: GOexpress_1.41.0.tgz PackageFileSize: 2.892 MiB