Package: GOexpress Version: 1.41.0 Command: /Library/Frameworks/R.framework/Resources/bin/R CMD INSTALL GOexpress StartedAt: 2025-02-04 15:18:28 -0500 (Tue, 04 Feb 2025) EndedAt: 2025-02-04 15:18:53 -0500 (Tue, 04 Feb 2025) EllapsedTime: 24.6 seconds RetCode: 0 Status: OK