Package: GOexpress Version: 1.41.0 Command: /home/biocbuild/bbs-3.21-bioc/R/bin/R CMD build --keep-empty-dirs --no-resave-data GOexpress StartedAt: 2025-02-09 17:28:04 -0500 (Sun, 09 Feb 2025) EndedAt: 2025-02-09 17:28:40 -0500 (Sun, 09 Feb 2025) EllapsedTime: 36.0 seconds RetCode: 0 Status: OK PackageFile: GOexpress_1.41.0.tar.gz PackageFileSize: 2.345 MiB