Package: GOexpress Version: 1.41.0 Command: /home/biocbuild/bbs-3.21-bioc/R/bin/R CMD INSTALL GOexpress StartedAt: 2025-02-03 15:34:30 -0500 (Mon, 03 Feb 2025) EndedAt: 2025-02-03 15:34:48 -0500 (Mon, 03 Feb 2025) EllapsedTime: 17.8 seconds RetCode: 0 Status: OK