Package: GOexpress Version: 1.41.0 Command: rm -rf GOexpress.buildbin-libdir && mkdir GOexpress.buildbin-libdir && E:\biocbuild\bbs-3.21-bioc\R\bin\R.exe CMD INSTALL --build --library=GOexpress.buildbin-libdir GOexpress_1.41.0.tar.gz StartedAt: 2025-02-10 07:52:19 -0500 (Mon, 10 Feb 2025) EndedAt: 2025-02-10 07:52:55 -0500 (Mon, 10 Feb 2025) EllapsedTime: 35.6 seconds RetCode: 0 Status: OK PackageFile: GOexpress_1.41.0.zip PackageFileSize: 2.894 MiB