Package: GOexpress Version: 1.41.0 Command: E:\biocbuild\bbs-3.21-bioc\R\bin\R.exe CMD INSTALL GOexpress StartedAt: 2025-02-04 16:02:03 -0500 (Tue, 04 Feb 2025) EndedAt: 2025-02-04 16:02:32 -0500 (Tue, 04 Feb 2025) EllapsedTime: 29.2 seconds RetCode: 0 Status: OK