Package: GOfuncR Version: 1.27.0 Command: /Library/Frameworks/R.framework/Resources/bin/R CMD check --install=check:GOfuncR.install-out.txt --library=/Library/Frameworks/R.framework/Resources/library --no-vignettes --timings GOfuncR_1.27.0.tar.gz StartedAt: 2025-02-09 19:30:13 -0500 (Sun, 09 Feb 2025) EndedAt: 2025-02-09 19:32:08 -0500 (Sun, 09 Feb 2025) EllapsedTime: 115.3 seconds RetCode: 0 Status: OK CheckDir: GOfuncR.Rcheck Warnings: 0