Package: GOfuncR Version: 1.27.0 Command: /home/biocbuild/R/R/bin/R CMD build --keep-empty-dirs --no-resave-data GOfuncR StartedAt: 2025-01-28 23:18:34 -0000 (Tue, 28 Jan 2025) EndedAt: 2025-01-28 23:24:01 -0000 (Tue, 28 Jan 2025) EllapsedTime: 327.1 seconds RetCode: 0 Status: OK PackageFile: GOfuncR_1.27.0.tar.gz PackageFileSize: 4.869 MiB