Package: GOfuncR Version: 1.27.0 Command: /home/biocbuild/R/R/bin/R CMD check --install=check:GOfuncR.install-out.txt --library=/home/biocbuild/R/R/site-library --no-vignettes --timings GOfuncR_1.27.0.tar.gz StartedAt: 2025-01-28 11:12:07 -0000 (Tue, 28 Jan 2025) EndedAt: 2025-01-28 11:17:46 -0000 (Tue, 28 Jan 2025) EllapsedTime: 338.2 seconds RetCode: 0 Status: OK CheckDir: GOfuncR.Rcheck Warnings: 0