Package: GOfuncR Version: 1.27.0 Command: /home/biocbuild/R/R/bin/R CMD INSTALL GOfuncR StartedAt: 2025-01-29 19:44:39 -0000 (Wed, 29 Jan 2025) EndedAt: 2025-01-29 19:47:09 -0000 (Wed, 29 Jan 2025) EllapsedTime: 150.6 seconds RetCode: 0 Status: OK