Package: GOfuncR Version: 1.27.0 Command: rm -rf GOfuncR.buildbin-libdir && mkdir GOfuncR.buildbin-libdir && /Users/biocbuild/BBS/utils/build-universal.sh GOfuncR_1.27.0.tar.gz /Library/Frameworks/R.framework/Resources/bin/R GOfuncR.buildbin-libdir StartedAt: 2025-02-10 00:56:19 -0500 (Mon, 10 Feb 2025) EndedAt: 2025-02-10 00:58:33 -0500 (Mon, 10 Feb 2025) EllapsedTime: 134.2 seconds RetCode: 0 Status: OK PackageFile: GOfuncR_1.27.0.tgz PackageFileSize: 4.343 MiB