Package: GOfuncR Version: 1.27.0 Command: /Library/Frameworks/R.framework/Resources/bin/R CMD INSTALL GOfuncR StartedAt: 2025-02-09 15:13:31 -0500 (Sun, 09 Feb 2025) EndedAt: 2025-02-09 15:15:34 -0500 (Sun, 09 Feb 2025) EllapsedTime: 122.9 seconds RetCode: 0 Status: OK