Package: GOfuncR Version: 1.27.0 Command: /home/biocbuild/bbs-3.21-bioc/R/bin/R CMD build --keep-empty-dirs --no-resave-data GOfuncR StartedAt: 2025-02-04 17:26:45 -0500 (Tue, 04 Feb 2025) EndedAt: 2025-02-04 17:30:31 -0500 (Tue, 04 Feb 2025) EllapsedTime: 225.2 seconds RetCode: 0 Status: OK PackageFile: GOfuncR_1.27.0.tar.gz PackageFileSize: 5.19 MiB