Package: GOpro Version: 1.33.0 Command: rm -rf GOpro.buildbin-libdir && mkdir GOpro.buildbin-libdir && /Users/biocbuild/BBS/utils/build-universal.sh GOpro_1.33.0.tar.gz /Library/Frameworks/R.framework/Resources/bin/R GOpro.buildbin-libdir StartedAt: 2025-02-10 00:56:20 -0500 (Mon, 10 Feb 2025) EndedAt: 2025-02-10 00:57:13 -0500 (Mon, 10 Feb 2025) EllapsedTime: 53.4 seconds RetCode: 0 Status: OK PackageFile: GOpro_1.33.0.tgz PackageFileSize: 1.45 MiB