Package: GOstats Version: 2.73.0 Command: /Library/Frameworks/R.framework/Resources/bin/R CMD INSTALL GOstats StartedAt: 2025-02-04 15:20:36 -0500 (Tue, 04 Feb 2025) EndedAt: 2025-02-04 15:20:44 -0500 (Tue, 04 Feb 2025) EllapsedTime: 8.8 seconds RetCode: 0 Status: OK