Package: GOstats Version: 2.73.0 Command: /home/biocbuild/R/R/bin/R CMD INSTALL GOstats StartedAt: 2025-01-29 20:17:47 -0000 (Wed, 29 Jan 2025) EndedAt: 2025-01-29 20:18:18 -0000 (Wed, 29 Jan 2025) EllapsedTime: 30.6 seconds RetCode: 0 Status: OK