Package: GOstats Version: 2.73.0 Command: /Library/Frameworks/R.framework/Resources/bin/R CMD check --install=check:GOstats.install-out.txt --library=/Library/Frameworks/R.framework/Resources/library --no-vignettes --timings GOstats_2.73.0.tar.gz StartedAt: 2025-02-09 21:06:26 -0500 (Sun, 09 Feb 2025) EndedAt: 2025-02-09 21:11:03 -0500 (Sun, 09 Feb 2025) EllapsedTime: 276.7 seconds RetCode: 0 Status: OK CheckDir: GOstats.Rcheck Warnings: 0