Package: GOstats Version: 2.73.0 Command: /home/biocbuild/bbs-3.21-bioc/R/bin/R CMD INSTALL GOstats StartedAt: 2025-02-09 15:38:56 -0500 (Sun, 09 Feb 2025) EndedAt: 2025-02-09 15:39:19 -0500 (Sun, 09 Feb 2025) EllapsedTime: 22.5 seconds RetCode: 0 Status: OK