Package: GOstats Version: 2.73.0 Command: chmod a+r GOstats -R && E:\biocbuild\bbs-3.21-bioc\R\bin\R.exe CMD build --keep-empty-dirs --no-resave-data GOstats StartedAt: 2025-02-09 19:03:32 -0500 (Sun, 09 Feb 2025) EndedAt: 2025-02-09 19:43:32 -0500 (Sun, 09 Feb 2025) EllapsedTime: 2400.0 seconds RetCode: None Status: TIMEOUT PackageFile: None PackageFileSize: NA