Package: GOstats Version: 2.73.0 Command: E:\biocbuild\bbs-3.21-bioc\R\bin\R.exe CMD check --no-multiarch --install=check:GOstats.install-out.txt --library=E:\biocbuild\bbs-3.21-bioc\R\library --no-vignettes --timings GOstats_2.73.0.tar.gz StartedAt: 2024-12-28 01:30:08 -0500 (Sat, 28 Dec 2024) EndedAt: 2024-12-28 01:35:47 -0500 (Sat, 28 Dec 2024) EllapsedTime: 338.7 seconds RetCode: 0 Status: OK CheckDir: GOstats.Rcheck Warnings: 0