Package: GPA Version: 1.19.0 Command: /Library/Frameworks/R.framework/Resources/bin/R CMD build --keep-empty-dirs --no-resave-data GPA StartedAt: 2025-02-09 16:31:45 -0500 (Sun, 09 Feb 2025) EndedAt: 2025-02-09 16:32:43 -0500 (Sun, 09 Feb 2025) EllapsedTime: 57.6 seconds RetCode: 0 Status: OK PackageFile: GPA_1.19.0.tar.gz PackageFileSize: 311.4 KiB