Package: GPA Version: 1.19.0 Command: /Library/Frameworks/R.framework/Resources/bin/R CMD check --install=check:GPA.install-out.txt --library=/Library/Frameworks/R.framework/Resources/library --no-vignettes --timings GPA_1.19.0.tar.gz StartedAt: 2025-02-03 20:08:59 -0500 (Mon, 03 Feb 2025) EndedAt: 2025-02-03 20:09:26 -0500 (Mon, 03 Feb 2025) EllapsedTime: 27.4 seconds RetCode: 0 Status: OK CheckDir: GPA.Rcheck Warnings: 0