Package: GPA Version: 1.19.0 Command: /Library/Frameworks/R.framework/Resources/bin/R CMD INSTALL GPA StartedAt: 2025-02-09 15:16:49 -0500 (Sun, 09 Feb 2025) EndedAt: 2025-02-09 15:16:55 -0500 (Sun, 09 Feb 2025) EllapsedTime: 5.7 seconds RetCode: 0 Status: OK