Package: GPA Version: 1.19.0 Command: /home/biocbuild/R/R/bin/R CMD build --keep-empty-dirs --no-resave-data GPA StartedAt: 2025-01-28 23:20:52 -0000 (Tue, 28 Jan 2025) EndedAt: 2025-01-28 23:24:15 -0000 (Tue, 28 Jan 2025) EllapsedTime: 203.1 seconds RetCode: 0 Status: OK PackageFile: GPA_1.19.0.tar.gz PackageFileSize: 316.2 KiB