Package: GPA Version: 1.19.0 Command: /home/biocbuild/R/R/bin/R CMD INSTALL GPA StartedAt: 2025-01-29 20:09:35 -0000 (Wed, 29 Jan 2025) EndedAt: 2025-01-29 20:09:57 -0000 (Wed, 29 Jan 2025) EllapsedTime: 22.7 seconds RetCode: 0 Status: OK