Package: GRaNIE Version: 1.11.0 Command: rm -rf GRaNIE.buildbin-libdir && mkdir GRaNIE.buildbin-libdir && /Users/biocbuild/BBS/utils/build-universal.sh GRaNIE_1.11.0.tar.gz /Library/Frameworks/R.framework/Resources/bin/R GRaNIE.buildbin-libdir StartedAt: 2025-02-09 22:16:39 -0500 (Sun, 09 Feb 2025) EndedAt: 2025-02-09 22:17:00 -0500 (Sun, 09 Feb 2025) EllapsedTime: 21.4 seconds RetCode: 0 Status: OK PackageFile: GRaNIE_1.11.0.tgz PackageFileSize: 9.045 MiB