Package: GRaNIE Version: 1.11.0 Command: /Library/Frameworks/R.framework/Resources/bin/R CMD check --install=check:GRaNIE.install-out.txt --library=/Library/Frameworks/R.framework/Resources/library --no-vignettes --timings GRaNIE_1.11.0.tar.gz StartedAt: 2025-02-09 19:32:10 -0500 (Sun, 09 Feb 2025) EndedAt: 2025-02-09 19:35:31 -0500 (Sun, 09 Feb 2025) EllapsedTime: 200.4 seconds RetCode: 0 Status: OK CheckDir: GRaNIE.Rcheck Warnings: 0