Package: GRaNIE Version: 1.11.0 Command: /home/biocbuild/R/R/bin/R CMD build --keep-empty-dirs --no-resave-data GRaNIE StartedAt: 2025-01-28 23:21:15 -0000 (Tue, 28 Jan 2025) EndedAt: 2025-01-28 23:28:27 -0000 (Tue, 28 Jan 2025) EllapsedTime: 432.2 seconds RetCode: 0 Status: OK PackageFile: GRaNIE_1.11.0.tar.gz PackageFileSize: 4.285 MiB