Package: GRaNIE Version: 1.11.0 Command: /Library/Frameworks/R.framework/Resources/bin/R CMD build --keep-empty-dirs --no-resave-data GRaNIE StartedAt: 2025-02-09 16:57:56 -0500 (Sun, 09 Feb 2025) EndedAt: 2025-02-09 17:02:14 -0500 (Sun, 09 Feb 2025) EllapsedTime: 258.2 seconds RetCode: 0 Status: OK PackageFile: GRaNIE_1.11.0.tar.gz PackageFileSize: 8.382 MiB