Package: GRaNIE Version: 1.11.0 Command: /Library/Frameworks/R.framework/Resources/bin/R CMD check --install=check:GRaNIE.install-out.txt --library=/Library/Frameworks/R.framework/Resources/library --no-vignettes --timings GRaNIE_1.11.0.tar.gz StartedAt: 2025-02-09 21:07:26 -0500 (Sun, 09 Feb 2025) EndedAt: 2025-02-09 21:16:16 -0500 (Sun, 09 Feb 2025) EllapsedTime: 529.8 seconds RetCode: 0 Status: OK CheckDir: GRaNIE.Rcheck Warnings: 0