Package: GRaNIE Version: 1.11.0 Command: /Library/Frameworks/R.framework/Resources/bin/R CMD INSTALL GRaNIE StartedAt: 2025-02-09 15:19:39 -0500 (Sun, 09 Feb 2025) EndedAt: 2025-02-09 15:20:45 -0500 (Sun, 09 Feb 2025) EllapsedTime: 65.8 seconds RetCode: 0 Status: OK