Package: GRaNIE Version: 1.11.0 Command: /home/biocbuild/bbs-3.21-bioc/R/bin/R CMD check --install=check:GRaNIE.install-out.txt --library=/home/biocbuild/bbs-3.21-bioc/R/site-library --timings GRaNIE_1.11.0.tar.gz StartedAt: 2025-02-09 22:53:48 -0500 (Sun, 09 Feb 2025) EndedAt: 2025-02-09 23:04:27 -0500 (Sun, 09 Feb 2025) EllapsedTime: 639.0 seconds RetCode: 0 Status: OK CheckDir: GRaNIE.Rcheck Warnings: 0