Package: GRaNIE Version: 1.11.0 Command: /home/biocbuild/bbs-3.21-bioc/R/bin/R CMD INSTALL GRaNIE StartedAt: 2025-02-09 15:41:46 -0500 (Sun, 09 Feb 2025) EndedAt: 2025-02-09 15:42:36 -0500 (Sun, 09 Feb 2025) EllapsedTime: 49.7 seconds RetCode: 0 Status: OK