Package: GRaNIE Version: 1.11.0 Command: rm -rf GRaNIE.buildbin-libdir && mkdir GRaNIE.buildbin-libdir && E:\biocbuild\bbs-3.21-bioc\R\bin\R.exe CMD INSTALL --build --library=GRaNIE.buildbin-libdir GRaNIE_1.11.0.tar.gz StartedAt: 2025-02-05 08:04:51 -0500 (Wed, 05 Feb 2025) EndedAt: 2025-02-05 08:06:07 -0500 (Wed, 05 Feb 2025) EllapsedTime: 76.4 seconds RetCode: 0 Status: OK PackageFile: GRaNIE_1.11.0.zip PackageFileSize: 4.669 MiB